BEGIN:VCALENDAR
VERSION:2.0
PRODID:-//The JedI Order - ECPv1.0//NONSGML v1.0//EN
CALSCALE:GREGORIAN
METHOD:PUBLISH
X-WR-CALNAME:The JedI Order
X-ORIGINAL-URL:https://thejedlorder.org
X-WR-CALDESC:Events for The JedI Order
BEGIN:VEVENT
DTSTART;VALUE=DATE-TIME:20260402T010000Z
DTEND;VALUE=DATE-TIME:20260402T020000Z
DTSTAMP:20260419T122627
UID:3285-1775091600-1775095200@https://thejedlorder.org
SUMMARY:OOC April Fools' Party
DESCRIPTION:Happy April Fools' Day!
LOCATION:
END:VEVENT
BEGIN:VEVENT
DTSTART;VALUE=DATE-TIME:20260401T230000Z
DTEND;VALUE=DATE-TIME:20260402T000000Z
DTSTAMP:20260419T122627
UID:3275-1775084400-1775088000@https://thejedlorder.org
SUMMARY:Sentinel Orientation
DESCRIPTION:Taught by Kethry
LOCATION:
END:VEVENT
BEGIN:VEVENT
DTSTART;VALUE=DATE-TIME:20260402T000000Z
DTEND;VALUE=DATE-TIME:20260402T010000Z
DTSTAMP:20260419T122627
UID:3274-1775088000-1775091600@https://thejedlorder.org
SUMMARY:Sentinel Ethics
DESCRIPTION:Taught by Kethry
LOCATION:
END:VEVENT
BEGIN:VEVENT
DTSTART;VALUE=DATE-TIME:20260401T040000Z
DTEND;VALUE=DATE-TIME:20260402T035900Z
DTSTAMP:20260419T122627
UID:3222-1775016000-1775102340@https://thejedlorder.org
SUMMARY:Sentinel Week
DESCRIPTION:The Sentinel School is responsible for the activities for this week.
LOCATION:
END:VEVENT
BEGIN:VEVENT
DTSTART;VALUE=DATE-TIME:20260403T010000Z
DTEND;VALUE=DATE-TIME:20260403T020000Z
DTSTAMP:20260419T122627
UID:3278-1775178000-1775181600@https://thejedlorder.org
SUMMARY:Leadership
DESCRIPTION:Taught by Niusan
LOCATION:
END:VEVENT
BEGIN:VEVENT
DTSTART;VALUE=DATE-TIME:20260403T000000Z
DTEND;VALUE=DATE-TIME:20260403T010000Z
DTSTAMP:20260419T122627
UID:3277-1775174400-1775178000@https://thejedlorder.org
SUMMARY:Force Listening
DESCRIPTION:Taught by Eldbryan
LOCATION:
END:VEVENT
BEGIN:VEVENT
DTSTART;VALUE=DATE-TIME:20260402T230000Z
DTEND;VALUE=DATE-TIME:20260403T000000Z
DTSTAMP:20260419T122627
UID:3276-1775170800-1775174400@https://thejedlorder.org
SUMMARY:Orientation
DESCRIPTION:Taught by Orre
LOCATION:
END:VEVENT
BEGIN:VEVENT
DTSTART;VALUE=DATE-TIME:20260402T040000Z
DTEND;VALUE=DATE-TIME:20260403T035900Z
DTSTAMP:20260419T122627
UID:3222-1775102400-1775188740@https://thejedlorder.org
SUMMARY:Sentinel Week
DESCRIPTION:The Sentinel School is responsible for the activities for this week.
LOCATION:
END:VEVENT
BEGIN:VEVENT
DTSTART;VALUE=DATE-TIME:20260404T000000Z
DTEND;VALUE=DATE-TIME:20260404T020000Z
DTSTAMP:20260419T122627
UID:3280-1775260800-1775268000@https://thejedlorder.org
SUMMARY:Guild RP
DESCRIPTION:Hosted by Angerean
LOCATION:
END:VEVENT
BEGIN:VEVENT
DTSTART;VALUE=DATE-TIME:20260403T223000Z
DTEND;VALUE=DATE-TIME:20260404T000000Z
DTSTAMP:20260419T122627
UID:3279-1775255400-1775260800@https://thejedlorder.org
SUMMARY:Explosives and Demolitions
DESCRIPTION:Taught by Magnar
LOCATION:
END:VEVENT
BEGIN:VEVENT
DTSTART;VALUE=DATE-TIME:20260403T040000Z
DTEND;VALUE=DATE-TIME:20260404T035900Z
DTSTAMP:20260419T122627
UID:3222-1775188800-1775275140@https://thejedlorder.org
SUMMARY:Sentinel Week
DESCRIPTION:The Sentinel School is responsible for the activities for this week.
LOCATION:
END:VEVENT
BEGIN:VEVENT
DTSTART;VALUE=DATE-TIME:20260404T180000Z
DTEND;VALUE=DATE-TIME:20260404T190000Z
DTSTAMP:20260419T122627
UID:3282-1775325600-1775329200@https://thejedlorder.org
SUMMARY:Open Council
DESCRIPTION:
LOCATION:
END:VEVENT
BEGIN:VEVENT
DTSTART;VALUE=DATE-TIME:20260405T000000Z
DTEND;VALUE=DATE-TIME:20260405T030000Z
DTSTAMP:20260419T122627
UID:3228-1775347200-1775358000@https://thejedlorder.org
SUMMARY:Casual Ops Night
DESCRIPTION:
LOCATION:
END:VEVENT
BEGIN:VEVENT
DTSTART;VALUE=DATE-TIME:20260404T170000Z
DTEND;VALUE=DATE-TIME:20260404T180000Z
DTSTAMP:20260419T122627
UID:3223-1775322000-1775325600@https://thejedlorder.org
SUMMARY:Initiation Ceremony
DESCRIPTION:<span class="spiffy-event-group"><span class="calnk category_77 category-bg spiffy-eventid-3206"><span class="calnk-link"><span class="calnk-box"><span class="spiffy-popup"><span class="ca-desc-p">Come help us welcome members being initiated into the Order (Meet us next to the steps of the Jedi Temple on Tython)!</span></span></span></span></span></span>
LOCATION:
END:VEVENT
BEGIN:VEVENT
DTSTART;VALUE=DATE-TIME:20260404T040000Z
DTEND;VALUE=DATE-TIME:20260405T035900Z
DTSTAMP:20260419T122627
UID:3222-1775275200-1775361540@https://thejedlorder.org
SUMMARY:Sentinel Week
DESCRIPTION:The Sentinel School is responsible for the activities for this week.
LOCATION:
END:VEVENT
BEGIN:VEVENT
DTSTART;VALUE=DATE-TIME:20260405T040000Z
DTEND;VALUE=DATE-TIME:20260406T035900Z
DTSTAMP:20260419T122627
UID:3224-1775361600-1775447940@https://thejedlorder.org
SUMMARY:Mystic Week
DESCRIPTION:The Mystic School is responsible for scheduling this week's content.
LOCATION:
END:VEVENT
BEGIN:VEVENT
DTSTART;VALUE=DATE-TIME:20260407T000000Z
DTEND;VALUE=DATE-TIME:20260407T010000Z
DTSTAMP:20260419T122627
UID:3303-1775520000-1775523600@https://thejedlorder.org
SUMMARY:Hunter Neutralization
DESCRIPTION:Taught by Tengirr
LOCATION:
END:VEVENT
BEGIN:VEVENT
DTSTART;VALUE=DATE-TIME:20260406T230000Z
DTEND;VALUE=DATE-TIME:20260407T000000Z
DTSTAMP:20260419T122627
UID:3300-1775516400-1775520000@https://thejedlorder.org
SUMMARY:Mystic Orientation
DESCRIPTION:Taught by Aura
LOCATION:
END:VEVENT
BEGIN:VEVENT
DTSTART;VALUE=DATE-TIME:20260406T040000Z
DTEND;VALUE=DATE-TIME:20260407T035900Z
DTSTAMP:20260419T122627
UID:3224-1775448000-1775534340@https://thejedlorder.org
SUMMARY:Mystic Week
DESCRIPTION:The Mystic School is responsible for scheduling this week's content.
LOCATION:
END:VEVENT
BEGIN:VEVENT
DTSTART;VALUE=DATE-TIME:20260408T000000Z
DTEND;VALUE=DATE-TIME:20260408T010000Z
DTSTAMP:20260419T122627
UID:3304-1775606400-1775610000@https://thejedlorder.org
SUMMARY:RP 101
DESCRIPTION:Taught by Niusan
LOCATION:
END:VEVENT
BEGIN:VEVENT
DTSTART;VALUE=DATE-TIME:20260407T230000Z
DTEND;VALUE=DATE-TIME:20260408T000000Z
DTSTAMP:20260419T122627
UID:3301-1775602800-1775606400@https://thejedlorder.org
SUMMARY:Orientation
DESCRIPTION:Taught by Niusan
LOCATION:
END:VEVENT
BEGIN:VEVENT
DTSTART;VALUE=DATE-TIME:20260407T040000Z
DTEND;VALUE=DATE-TIME:20260408T035900Z
DTSTAMP:20260419T122627
UID:3224-1775534400-1775620740@https://thejedlorder.org
SUMMARY:Mystic Week
DESCRIPTION:The Mystic School is responsible for scheduling this week's content.
LOCATION:
END:VEVENT
BEGIN:VEVENT
DTSTART;VALUE=DATE-TIME:20260409T000000Z
DTEND;VALUE=DATE-TIME:20260409T010000Z
DTSTAMP:20260419T122627
UID:3306-1775692800-1775696400@https://thejedlorder.org
SUMMARY:Advanced RP - IC, OOC and Combat
DESCRIPTION:Taught by Niusan
LOCATION:
END:VEVENT
BEGIN:VEVENT
DTSTART;VALUE=DATE-TIME:20260408T230000Z
DTEND;VALUE=DATE-TIME:20260409T000000Z
DTSTAMP:20260419T122627
UID:3305-1775689200-1775692800@https://thejedlorder.org
SUMMARY:Double-Bladed Lightsaber
DESCRIPTION:Taught by Kethry
LOCATION:
END:VEVENT
BEGIN:VEVENT
DTSTART;VALUE=DATE-TIME:20260408T040000Z
DTEND;VALUE=DATE-TIME:20260409T035900Z
DTSTAMP:20260419T122627
UID:3224-1775620800-1775707140@https://thejedlorder.org
SUMMARY:Mystic Week
DESCRIPTION:The Mystic School is responsible for scheduling this week's content.
LOCATION:
END:VEVENT
BEGIN:VEVENT
DTSTART;VALUE=DATE-TIME:20260410T010000Z
DTEND;VALUE=DATE-TIME:20260410T020000Z
DTSTAMP:20260419T122627
UID:3310-1775782800-1775786400@https://thejedlorder.org
SUMMARY:Path of Study
DESCRIPTION:Taught by Niusan
LOCATION:
END:VEVENT
BEGIN:VEVENT
DTSTART;VALUE=DATE-TIME:20260410T000000Z
DTEND;VALUE=DATE-TIME:20260410T010000Z
DTSTAMP:20260419T122627
UID:3308-1775779200-1775782800@https://thejedlorder.org
SUMMARY:Dark Relics
DESCRIPTION:Pre-req: Intro to Mystics\nTaught by Kethry
LOCATION:
END:VEVENT
BEGIN:VEVENT
DTSTART;VALUE=DATE-TIME:20260409T230000Z
DTEND;VALUE=DATE-TIME:20260410T000000Z
DTSTAMP:20260419T122627
UID:3307-1775775600-1775779200@https://thejedlorder.org
SUMMARY:Leadership
DESCRIPTION:Taught by Niusan
LOCATION:
END:VEVENT
BEGIN:VEVENT
DTSTART;VALUE=DATE-TIME:20260409T040000Z
DTEND;VALUE=DATE-TIME:20260410T035900Z
DTSTAMP:20260419T122627
UID:3224-1775707200-1775793540@https://thejedlorder.org
SUMMARY:Mystic Week
DESCRIPTION:The Mystic School is responsible for scheduling this week's content.
LOCATION:
END:VEVENT
BEGIN:VEVENT
DTSTART;VALUE=DATE-TIME:20260411T000000Z
DTEND;VALUE=DATE-TIME:20260411T020000Z
DTSTAMP:20260419T122627
UID:3311-1775865600-1775872800@https://thejedlorder.org
SUMMARY:Guild RP
DESCRIPTION:Hosted by Niusan
LOCATION:
END:VEVENT
BEGIN:VEVENT
DTSTART;VALUE=DATE-TIME:20260410T040000Z
DTEND;VALUE=DATE-TIME:20260411T035900Z
DTSTAMP:20260419T122627
UID:3224-1775793600-1775879940@https://thejedlorder.org
SUMMARY:Mystic Week
DESCRIPTION:The Mystic School is responsible for scheduling this week's content.
LOCATION:
END:VEVENT
BEGIN:VEVENT
DTSTART;VALUE=DATE-TIME:20260412T000000Z
DTEND;VALUE=DATE-TIME:20260412T030000Z
DTSTAMP:20260419T122627
UID:3228-1775952000-1775962800@https://thejedlorder.org
SUMMARY:Casual Ops Night
DESCRIPTION:
LOCATION:
END:VEVENT
BEGIN:VEVENT
DTSTART;VALUE=DATE-TIME:20260411T040000Z
DTEND;VALUE=DATE-TIME:20260412T035900Z
DTSTAMP:20260419T122627
UID:3224-1775880000-1775966340@https://thejedlorder.org
SUMMARY:Mystic Week
DESCRIPTION:The Mystic School is responsible for scheduling this week's content.
LOCATION:
END:VEVENT
BEGIN:VEVENT
DTSTART;VALUE=DATE-TIME:20260411T170000Z
DTEND;VALUE=DATE-TIME:20260411T180000Z
DTSTAMP:20260419T122627
UID:3223-1775926800-1775930400@https://thejedlorder.org
SUMMARY:Initiation Ceremony
DESCRIPTION:<span class="spiffy-event-group"><span class="calnk category_77 category-bg spiffy-eventid-3206"><span class="calnk-link"><span class="calnk-box"><span class="spiffy-popup"><span class="ca-desc-p">Come help us welcome members being initiated into the Order (Meet us next to the steps of the Jedi Temple on Tython)!</span></span></span></span></span></span>
LOCATION:
END:VEVENT
BEGIN:VEVENT
DTSTART;VALUE=DATE-TIME:20260412T040000Z
DTEND;VALUE=DATE-TIME:20260413T035900Z
DTSTAMP:20260419T122627
UID:3225-1775966400-1776052740@https://thejedlorder.org
SUMMARY:Guardian Week
DESCRIPTION:The Guardian School is responsible for scheduling this week's content.
LOCATION:
END:VEVENT
BEGIN:VEVENT
DTSTART;VALUE=DATE-TIME:20260413T000000Z
DTEND;VALUE=DATE-TIME:20260413T010000Z
DTSTAMP:20260419T122627
UID:3206-1776038400-1776042000@https://thejedlorder.org
SUMMARY:Initiation Ceremony
DESCRIPTION:Come help us welcome members being initiated into the Order (Meet us next to the steps of the Jedi Temple on Tython)!
LOCATION:
END:VEVENT
BEGIN:VEVENT
DTSTART;VALUE=DATE-TIME:20260413T230000Z
DTEND;VALUE=DATE-TIME:20260414T000000Z
DTSTAMP:20260419T122627
UID:3355-1776121200-1776124800@https://thejedlorder.org
SUMMARY:Guardian Orientation | Aura
DESCRIPTION:
LOCATION:
END:VEVENT
BEGIN:VEVENT
DTSTART;VALUE=DATE-TIME:20260414T000000Z
DTEND;VALUE=DATE-TIME:20260414T013000Z
DTSTAMP:20260419T122627
UID:3345-1776124800-1776130200@https://thejedlorder.org
SUMMARY:Lightsaber Forms
DESCRIPTION:Shii-Cho (Tubal)\n\nSoresu (Jaren)\n\nAtaru (Ashara)\n\nShien/Djem So (Aura)
LOCATION:
END:VEVENT
BEGIN:VEVENT
DTSTART;VALUE=DATE-TIME:20260413T040000Z
DTEND;VALUE=DATE-TIME:20260414T035900Z
DTSTAMP:20260419T122627
UID:3225-1776052800-1776139140@https://thejedlorder.org
SUMMARY:Guardian Week
DESCRIPTION:The Guardian School is responsible for scheduling this week's content.
LOCATION:
END:VEVENT
BEGIN:VEVENT
DTSTART;VALUE=DATE-TIME:20260415T000000Z
DTEND;VALUE=DATE-TIME:20260415T013000Z
DTSTAMP:20260419T122627
UID:3346-1776211200-1776216600@https://thejedlorder.org
SUMMARY:Guild RP Event | Eldbryan
DESCRIPTION:
LOCATION:
END:VEVENT
BEGIN:VEVENT
DTSTART;VALUE=DATE-TIME:20260414T040000Z
DTEND;VALUE=DATE-TIME:20260415T035900Z
DTSTAMP:20260419T122627
UID:3225-1776139200-1776225540@https://thejedlorder.org
SUMMARY:Guardian Week
DESCRIPTION:The Guardian School is responsible for scheduling this week's content.
LOCATION:
END:VEVENT
BEGIN:VEVENT
DTSTART;VALUE=DATE-TIME:20260415T230000Z
DTEND;VALUE=DATE-TIME:20260416T010000Z
DTSTAMP:20260419T122627
UID:3347-1776294000-1776301200@https://thejedlorder.org
SUMMARY:Dueling Tournament (PVP) | Jaren
DESCRIPTION:<a href="https://docs.google.com/forms/d/e/1FAIpQLSddmUHsJmNrs72k38sOL_lIDykAIs9H8ij-8lGiT5tDsT0Zug/viewform?usp=header">https://docs.google.com/forms/d/e/1FAIpQLSddmUHsJmNrs72k38sOL_lIDykAIs9H8ij-8lGiT5tDsT0Zug/viewform?usp=header</a>\n\nUse this link to sign up for the event. Teams and specific gear levels are required. Rules are in place, so please read through.
LOCATION:
END:VEVENT
BEGIN:VEVENT
DTSTART;VALUE=DATE-TIME:20260415T040000Z
DTEND;VALUE=DATE-TIME:20260416T035900Z
DTSTAMP:20260419T122627
UID:3225-1776225600-1776311940@https://thejedlorder.org
SUMMARY:Guardian Week
DESCRIPTION:The Guardian School is responsible for scheduling this week's content.
LOCATION:
END:VEVENT
BEGIN:VEVENT
DTSTART;VALUE=DATE-TIME:20260417T020000Z
DTEND;VALUE=DATE-TIME:20260417T030000Z
DTSTAMP:20260419T122627
UID:3350-1776391200-1776394800@https://thejedlorder.org
SUMMARY:Lightsaber Dueling | Tubalcain
DESCRIPTION:
LOCATION:
END:VEVENT
BEGIN:VEVENT
DTSTART;VALUE=DATE-TIME:20260417T010000Z
DTEND;VALUE=DATE-TIME:20260417T020000Z
DTSTAMP:20260419T122627
UID:3349-1776387600-1776391200@https://thejedlorder.org
SUMMARY:Path of Study | Eran
DESCRIPTION:
LOCATION:
END:VEVENT
BEGIN:VEVENT
DTSTART;VALUE=DATE-TIME:20260417T000000Z
DTEND;VALUE=DATE-TIME:20260417T010000Z
DTSTAMP:20260419T122627
UID:3348-1776384000-1776387600@https://thejedlorder.org
SUMMARY:Roleplay 101 | Eran
DESCRIPTION:
LOCATION:
END:VEVENT
BEGIN:VEVENT
DTSTART;VALUE=DATE-TIME:20260416T040000Z
DTEND;VALUE=DATE-TIME:20260417T035900Z
DTSTAMP:20260419T122627
UID:3225-1776312000-1776398340@https://thejedlorder.org
SUMMARY:Guardian Week
DESCRIPTION:The Guardian School is responsible for scheduling this week's content.
LOCATION:
END:VEVENT
BEGIN:VEVENT
DTSTART;VALUE=DATE-TIME:20260418T000000Z
DTEND;VALUE=DATE-TIME:20260418T013000Z
DTSTAMP:20260419T122627
UID:3352-1776470400-1776475800@https://thejedlorder.org
SUMMARY:Guardian RP event
DESCRIPTION:
LOCATION:
END:VEVENT
BEGIN:VEVENT
DTSTART;VALUE=DATE-TIME:20260417T230000Z
DTEND;VALUE=DATE-TIME:20260418T000000Z
DTSTAMP:20260419T122627
UID:3351-1776466800-1776470400@https://thejedlorder.org
SUMMARY:Leadership | Ilar
DESCRIPTION:
LOCATION:
END:VEVENT
BEGIN:VEVENT
DTSTART;VALUE=DATE-TIME:20260417T040000Z
DTEND;VALUE=DATE-TIME:20260418T035900Z
DTSTAMP:20260419T122627
UID:3225-1776398400-1776484740@https://thejedlorder.org
SUMMARY:Guardian Week
DESCRIPTION:The Guardian School is responsible for scheduling this week's content.
LOCATION:
END:VEVENT
BEGIN:VEVENT
DTSTART;VALUE=DATE-TIME:20260418T200000Z
DTEND;VALUE=DATE-TIME:20260418T210000Z
DTSTAMP:20260419T122627
UID:3354-1776542400-1776546000@https://thejedlorder.org
SUMMARY:Orientation | Thol &amp; Aura
DESCRIPTION:
LOCATION:
END:VEVENT
BEGIN:VEVENT
DTSTART;VALUE=DATE-TIME:20260418T190000Z
DTEND;VALUE=DATE-TIME:20260418T200000Z
DTSTAMP:20260419T122627
UID:3353-1776538800-1776542400@https://thejedlorder.org
SUMMARY:Flashpoint Roleplays | Aura
DESCRIPTION:
LOCATION:
END:VEVENT
BEGIN:VEVENT
DTSTART;VALUE=DATE-TIME:20260418T180000Z
DTEND;VALUE=DATE-TIME:20260418T190000Z
DTSTAMP:20260419T122627
UID:3340-1776535200-1776538800@https://thejedlorder.org
SUMMARY:Open Council
DESCRIPTION:Occurs immediately following Initiation Ceremony.
LOCATION:
END:VEVENT
BEGIN:VEVENT
DTSTART;VALUE=DATE-TIME:20260419T000000Z
DTEND;VALUE=DATE-TIME:20260419T030000Z
DTSTAMP:20260419T122627
UID:3228-1776556800-1776567600@https://thejedlorder.org
SUMMARY:Casual Ops Night
DESCRIPTION:
LOCATION:
END:VEVENT
BEGIN:VEVENT
DTSTART;VALUE=DATE-TIME:20260418T040000Z
DTEND;VALUE=DATE-TIME:20260419T035900Z
DTSTAMP:20260419T122627
UID:3225-1776484800-1776571140@https://thejedlorder.org
SUMMARY:Guardian Week
DESCRIPTION:The Guardian School is responsible for scheduling this week's content.
LOCATION:
END:VEVENT
BEGIN:VEVENT
DTSTART;VALUE=DATE-TIME:20260418T170000Z
DTEND;VALUE=DATE-TIME:20260418T180000Z
DTSTAMP:20260419T122627
UID:3223-1776531600-1776535200@https://thejedlorder.org
SUMMARY:Initiation Ceremony
DESCRIPTION:<span class="spiffy-event-group"><span class="calnk category_77 category-bg spiffy-eventid-3206"><span class="calnk-link"><span class="calnk-box"><span class="spiffy-popup"><span class="ca-desc-p">Come help us welcome members being initiated into the Order (Meet us next to the steps of the Jedi Temple on Tython)!</span></span></span></span></span></span>
LOCATION:
END:VEVENT
BEGIN:VEVENT
DTSTART;VALUE=DATE-TIME:20260420T010000Z
DTEND;VALUE=DATE-TIME:20260420T013000Z
DTSTAMP:20260419T122627
UID:3286-1776646800-1776648600@https://thejedlorder.org
SUMMARY:Guild Video Watch Party
DESCRIPTION:Aimar will unveil the new guild video in Discord following Initiation Ceremony.
LOCATION:
END:VEVENT
BEGIN:VEVENT
DTSTART;VALUE=DATE-TIME:20260419T040000Z
DTEND;VALUE=DATE-TIME:20260420T035900Z
DTSTAMP:20260419T122627
UID:3226-1776571200-1776657540@https://thejedlorder.org
SUMMARY:Consular Week
DESCRIPTION:The Consular School is responsible for scheduling this week's activities.
LOCATION:
END:VEVENT
BEGIN:VEVENT
DTSTART;VALUE=DATE-TIME:20260420T000000Z
DTEND;VALUE=DATE-TIME:20260420T010000Z
DTSTAMP:20260419T122627
UID:3206-1776643200-1776646800@https://thejedlorder.org
SUMMARY:Initiation Ceremony
DESCRIPTION:Come help us welcome members being initiated into the Order (Meet us next to the steps of the Jedi Temple on Tython)!
LOCATION:
END:VEVENT
BEGIN:VEVENT
DTSTART;VALUE=DATE-TIME:20260421T010000Z
DTEND;VALUE=DATE-TIME:20260421T020000Z
DTSTAMP:20260419T122627
UID:3360-1776733200-1776736800@https://thejedlorder.org
SUMMARY:Orientation
DESCRIPTION:
LOCATION:
END:VEVENT
BEGIN:VEVENT
DTSTART;VALUE=DATE-TIME:20260420T230000Z
DTEND;VALUE=DATE-TIME:20260421T000000Z
DTSTAMP:20260419T122627
UID:3359-1776726000-1776729600@https://thejedlorder.org
SUMMARY:Leadership
DESCRIPTION:
LOCATION:
END:VEVENT
BEGIN:VEVENT
DTSTART;VALUE=DATE-TIME:20260421T000000Z
DTEND;VALUE=DATE-TIME:20260421T010000Z
DTSTAMP:20260419T122627
UID:3358-1776729600-1776733200@https://thejedlorder.org
SUMMARY:Survival
DESCRIPTION:
LOCATION:
END:VEVENT
BEGIN:VEVENT
DTSTART;VALUE=DATE-TIME:20260420T040000Z
DTEND;VALUE=DATE-TIME:20260421T035900Z
DTSTAMP:20260419T122627
UID:3226-1776657600-1776743940@https://thejedlorder.org
SUMMARY:Consular Week
DESCRIPTION:The Consular School is responsible for scheduling this week's activities.
LOCATION:
END:VEVENT
BEGIN:VEVENT
DTSTART;VALUE=DATE-TIME:20260421T230000Z
DTEND;VALUE=DATE-TIME:20260422T000000Z
DTSTAMP:20260419T122627
UID:3361-1776812400-1776816000@https://thejedlorder.org
SUMMARY:Lightsaber Dueling
DESCRIPTION:
LOCATION:
END:VEVENT
BEGIN:VEVENT
DTSTART;VALUE=DATE-TIME:20260422T000000Z
DTEND;VALUE=DATE-TIME:20260422T010000Z
DTSTAMP:20260419T122627
UID:3362-1776816000-1776819600@https://thejedlorder.org
SUMMARY:RP101
DESCRIPTION:
LOCATION:
END:VEVENT
BEGIN:VEVENT
DTSTART;VALUE=DATE-TIME:20260421T040000Z
DTEND;VALUE=DATE-TIME:20260422T035900Z
DTSTAMP:20260419T122627
UID:3226-1776744000-1776830340@https://thejedlorder.org
SUMMARY:Consular Week
DESCRIPTION:The Consular School is responsible for scheduling this week's activities.
LOCATION:
END:VEVENT
BEGIN:VEVENT
DTSTART;VALUE=DATE-TIME:20260423T010000Z
DTEND;VALUE=DATE-TIME:20260423T020000Z
DTSTAMP:20260419T122627
UID:3365-1776906000-1776909600@https://thejedlorder.org
SUMMARY:Consular Orientation
DESCRIPTION:
LOCATION:
END:VEVENT
BEGIN:VEVENT
DTSTART;VALUE=DATE-TIME:20260423T000000Z
DTEND;VALUE=DATE-TIME:20260423T010000Z
DTSTAMP:20260419T122627
UID:3364-1776902400-1776906000@https://thejedlorder.org
SUMMARY:Trivia
DESCRIPTION:Hosted by Ucofar
LOCATION:
END:VEVENT
BEGIN:VEVENT
DTSTART;VALUE=DATE-TIME:20260422T040000Z
DTEND;VALUE=DATE-TIME:20260423T035900Z
DTSTAMP:20260419T122627
UID:3226-1776830400-1776916740@https://thejedlorder.org
SUMMARY:Consular Week
DESCRIPTION:The Consular School is responsible for scheduling this week's activities.
LOCATION:
END:VEVENT
BEGIN:VEVENT
DTSTART;VALUE=DATE-TIME:20260424T010000Z
DTEND;VALUE=DATE-TIME:20260424T020000Z
DTSTAMP:20260419T122627
UID:3366-1776992400-1776996000@https://thejedlorder.org
SUMMARY:Telekinetics Clinic
DESCRIPTION:Hosted by Jardzia
LOCATION:
END:VEVENT
BEGIN:VEVENT
DTSTART;VALUE=DATE-TIME:20260424T000000Z
DTEND;VALUE=DATE-TIME:20260424T010000Z
DTSTAMP:20260419T122627
UID:3367-1776988800-1776992400@https://thejedlorder.org
SUMMARY:Force Blinding
DESCRIPTION:
LOCATION:
END:VEVENT
BEGIN:VEVENT
DTSTART;VALUE=DATE-TIME:20260423T040000Z
DTEND;VALUE=DATE-TIME:20260424T035900Z
DTSTAMP:20260419T122627
UID:3226-1776916800-1777003140@https://thejedlorder.org
SUMMARY:Consular Week
DESCRIPTION:The Consular School is responsible for scheduling this week's activities.
LOCATION:
END:VEVENT
BEGIN:VEVENT
DTSTART;VALUE=DATE-TIME:20260425T003000Z
DTEND;VALUE=DATE-TIME:20260425T020000Z
DTSTAMP:20260419T122627
UID:3369-1777077000-1777082400@https://thejedlorder.org
SUMMARY:Training Exercise: The Hunt [Guild RP]
DESCRIPTION:Hosted by Ernil
LOCATION:
END:VEVENT
BEGIN:VEVENT
DTSTART;VALUE=DATE-TIME:20260424T230000Z
DTEND;VALUE=DATE-TIME:20260425T000000Z
DTSTAMP:20260419T122627
UID:3368-1777071600-1777075200@https://thejedlorder.org
SUMMARY:Force Bubble
DESCRIPTION:
LOCATION:
END:VEVENT
BEGIN:VEVENT
DTSTART;VALUE=DATE-TIME:20260424T040000Z
DTEND;VALUE=DATE-TIME:20260425T035900Z
DTSTAMP:20260419T122627
UID:3226-1777003200-1777089540@https://thejedlorder.org
SUMMARY:Consular Week
DESCRIPTION:The Consular School is responsible for scheduling this week's activities.
LOCATION:
END:VEVENT
BEGIN:VEVENT
DTSTART;VALUE=DATE-TIME:20260426T000000Z
DTEND;VALUE=DATE-TIME:20260426T030000Z
DTSTAMP:20260419T122627
UID:3228-1777161600-1777172400@https://thejedlorder.org
SUMMARY:Casual Ops Night
DESCRIPTION:
LOCATION:
END:VEVENT
BEGIN:VEVENT
DTSTART;VALUE=DATE-TIME:20260425T040000Z
DTEND;VALUE=DATE-TIME:20260426T035900Z
DTSTAMP:20260419T122627
UID:3226-1777089600-1777175940@https://thejedlorder.org
SUMMARY:Consular Week
DESCRIPTION:The Consular School is responsible for scheduling this week's activities.
LOCATION:
END:VEVENT
BEGIN:VEVENT
DTSTART;VALUE=DATE-TIME:20260425T170000Z
DTEND;VALUE=DATE-TIME:20260425T180000Z
DTSTAMP:20260419T122627
UID:3223-1777136400-1777140000@https://thejedlorder.org
SUMMARY:Initiation Ceremony
DESCRIPTION:<span class="spiffy-event-group"><span class="calnk category_77 category-bg spiffy-eventid-3206"><span class="calnk-link"><span class="calnk-box"><span class="spiffy-popup"><span class="ca-desc-p">Come help us welcome members being initiated into the Order (Meet us next to the steps of the Jedi Temple on Tython)!</span></span></span></span></span></span>
LOCATION:
END:VEVENT
BEGIN:VEVENT
DTSTART;VALUE=DATE-TIME:20260426T040000Z
DTEND;VALUE=DATE-TIME:20260427T035900Z
DTSTAMP:20260419T122627
UID:3222-1777176000-1777262340@https://thejedlorder.org
SUMMARY:Sentinel Week
DESCRIPTION:The Sentinel School is responsible for the activities for this week.
LOCATION:
END:VEVENT
BEGIN:VEVENT
DTSTART;VALUE=DATE-TIME:20260427T000000Z
DTEND;VALUE=DATE-TIME:20260427T010000Z
DTSTAMP:20260419T122627
UID:3206-1777248000-1777251600@https://thejedlorder.org
SUMMARY:Initiation Ceremony
DESCRIPTION:Come help us welcome members being initiated into the Order (Meet us next to the steps of the Jedi Temple on Tython)!
LOCATION:
END:VEVENT
BEGIN:VEVENT
DTSTART;VALUE=DATE-TIME:20260427T040000Z
DTEND;VALUE=DATE-TIME:20260428T035900Z
DTSTAMP:20260419T122627
UID:3222-1777262400-1777348740@https://thejedlorder.org
SUMMARY:Sentinel Week
DESCRIPTION:The Sentinel School is responsible for the activities for this week.
LOCATION:
END:VEVENT
BEGIN:VEVENT
DTSTART;VALUE=DATE-TIME:20260428T040000Z
DTEND;VALUE=DATE-TIME:20260429T035900Z
DTSTAMP:20260419T122627
UID:3222-1777348800-1777435140@https://thejedlorder.org
SUMMARY:Sentinel Week
DESCRIPTION:The Sentinel School is responsible for the activities for this week.
LOCATION:
END:VEVENT
BEGIN:VEVENT
DTSTART;VALUE=DATE-TIME:20260429T040000Z
DTEND;VALUE=DATE-TIME:20260430T035900Z
DTSTAMP:20260419T122627
UID:3222-1777435200-1777521540@https://thejedlorder.org
SUMMARY:Sentinel Week
DESCRIPTION:The Sentinel School is responsible for the activities for this week.
LOCATION:
END:VEVENT
BEGIN:VEVENT
DTSTART;VALUE=DATE-TIME:20260430T040000Z
DTEND;VALUE=DATE-TIME:20260501T035900Z
DTSTAMP:20260419T122627
UID:3222-1777521600-1777607940@https://thejedlorder.org
SUMMARY:Sentinel Week
DESCRIPTION:The Sentinel School is responsible for the activities for this week.
LOCATION:
END:VEVENT
END:VCALENDAR